BEGIN:VCALENDAR
VERSION:2.0
PRODID:icalendar-ruby
CALSCALE:GREGORIAN
BEGIN:VEVENT
DTSTAMP:20210119T032646Z
UID:c32831fc-3c06-4204-8fa7-af89fbb0e0c1
DTSTART;TZID=Pacific/Auckland:20210124T130000
DTEND;TZID=Pacific/Auckland:20210124T140000
DESCRIPTION:Property ID# 499300
SUMMARY:Openhome for 64 McGiven Drive
END:VEVENT
END:VCALENDAR
