BEGIN:VCALENDAR
VERSION:2.0
PRODID:icalendar-ruby
CALSCALE:GREGORIAN
BEGIN:VEVENT
DTSTAMP:20210119T033808Z
UID:8a9681a4-40eb-4531-af77-eb118559b351
DTSTART;TZID=Pacific/Auckland:20210121T130000
DTEND;TZID=Pacific/Auckland:20210121T133000
DESCRIPTION:Property ID# 499491
SUMMARY:Openhome for 162A Heta Road
END:VEVENT
END:VCALENDAR
