BEGIN:VCALENDAR
VERSION:2.0
PRODID:icalendar-ruby
CALSCALE:GREGORIAN
BEGIN:VEVENT
DTSTAMP:20210119T032650Z
UID:dfbc562f-6067-4cc6-8239-1440c6090488
DTSTART;TZID=Pacific/Auckland:20210124T140000
DTEND;TZID=Pacific/Auckland:20210124T143000
DESCRIPTION:Property ID# 499621
SUMMARY:Openhome for 9 Rawhiti Street
END:VEVENT
END:VCALENDAR
