BEGIN:VCALENDAR
VERSION:2.0
PRODID:icalendar-ruby
CALSCALE:GREGORIAN
BEGIN:VEVENT
DTSTAMP:20210119T032656Z
UID:ec02cc08-4e5d-48f1-9f26-e9bf1c506366
DTSTART;TZID=Pacific/Auckland:20210120T163000
DTEND;TZID=Pacific/Auckland:20210120T170000
DESCRIPTION:Property ID# 499445
SUMMARY:Openhome for 38 Clawton Street
END:VEVENT
END:VCALENDAR
