BEGIN:VCALENDAR
VERSION:2.0
PRODID:icalendar-ruby
CALSCALE:GREGORIAN
BEGIN:VEVENT
DTSTAMP:20210119T032651Z
UID:73f365ae-2085-4b0b-acd4-0ef6dedbe192
DTSTART;TZID=Pacific/Auckland:20210124T130000
DTEND;TZID=Pacific/Auckland:20210124T133000
DESCRIPTION:Property ID# 499276
SUMMARY:Openhome for 17B Clawton Street
END:VEVENT
END:VCALENDAR
