BEGIN:VCALENDAR
VERSION:2.0
PRODID:icalendar-ruby
CALSCALE:GREGORIAN
BEGIN:VEVENT
DTSTAMP:20210119T032657Z
UID:71a60aac-76ef-4ebf-bc0c-31820f5a47f5
DTSTART;TZID=Pacific/Auckland:20210118T160000
DTEND;TZID=Pacific/Auckland:20210118T163000
DESCRIPTION:Property ID# 499106
SUMMARY:Openhome for 1/22 Dartmoor Avenue
END:VEVENT
END:VCALENDAR
