BEGIN:VCALENDAR
VERSION:2.0
PRODID:icalendar-ruby
CALSCALE:GREGORIAN
BEGIN:VEVENT
DTSTAMP:20210119T032652Z
UID:b12b7f84-53e9-4788-8f28-9250c01571d6
DTSTART;TZID=Pacific/Auckland:20210120T160000
DTEND;TZID=Pacific/Auckland:20210120T163000
DESCRIPTION:Property ID# 499105
SUMMARY:Openhome for 10 Waterloo Place
END:VEVENT
END:VCALENDAR
