BEGIN:VCALENDAR
VERSION:2.0
PRODID:icalendar-ruby
CALSCALE:GREGORIAN
BEGIN:VEVENT
DTSTAMP:20210119T033744Z
UID:74428753-1324-45d0-933c-95172abf0941
DTSTART;TZID=Pacific/Auckland:20210124T150000
DTEND;TZID=Pacific/Auckland:20210124T153000
DESCRIPTION:Property ID# 496532
SUMMARY:Openhome for 17 Glamis Ave
END:VEVENT
END:VCALENDAR
