BEGIN:VCALENDAR
VERSION:2.0
PRODID:icalendar-ruby
CALSCALE:GREGORIAN
BEGIN:VEVENT
DTSTAMP:20210119T033823Z
UID:3c038225-2228-45f6-ac40-0792f0dd5bdc
DTSTART;VALUE=DATE:20200728
DESCRIPTION:Property ID# 485099\, Locatoin: 51 Devon St West\, NP\, Time: 4
 :30PM
SUMMARY:Auction for 
END:VEVENT
END:VCALENDAR
