BEGIN:VCALENDAR
VERSION:2.0
PRODID:icalendar-ruby
CALSCALE:GREGORIAN
BEGIN:VEVENT
DTSTAMP:20210119T033826Z
UID:d030d482-24d8-4fa9-9adf-394977ff6a56
DTSTART;VALUE=DATE:20200707
DESCRIPTION:Property ID# 483054\, Locatoin: 51 Devon St West\, New Plymouth
 \, Time: 4:00PM
SUMMARY:Auction for 
END:VEVENT
END:VCALENDAR
