BEGIN:VCALENDAR
VERSION:2.0
PRODID:icalendar-ruby
CALSCALE:GREGORIAN
BEGIN:VEVENT
DTSTAMP:20210119T033827Z
UID:5f2e2277-7ba3-4864-bcce-3d135a4fd864
DTSTART;VALUE=DATE:20200226
DESCRIPTION:Property ID# 472072\, Locatoin: 51 Devon St West\, New Plymouth
 \, Time: 4:00PM
SUMMARY:Auction for 
END:VEVENT
END:VCALENDAR
