BEGIN:VCALENDAR
VERSION:2.0
PRODID:icalendar-ruby
CALSCALE:GREGORIAN
BEGIN:VEVENT
DTSTAMP:20210119T033831Z
UID:f90ca9e1-ce89-46f7-8a8b-2e2b5569b8b9
DTSTART;VALUE=DATE:20191203
DESCRIPTION:Property ID# 467007\, Locatoin: 51 Devon St West\, New Plymouth
 \, Time: 4:00PM
SUMMARY:Auction for 
END:VEVENT
END:VCALENDAR
