BEGIN:VCALENDAR
VERSION:2.0
PRODID:icalendar-ruby
CALSCALE:GREGORIAN
BEGIN:VEVENT
DTSTAMP:20210119T033759Z
UID:d43e32c1-23b8-4968-9a56-0761c0fc8ef0
DTSTART;VALUE=DATE:20190919
DESCRIPTION:Property ID# 460200\, Time: 4:00PM
SUMMARY:Auction for 
END:VEVENT
END:VCALENDAR
