BEGIN:VCALENDAR
VERSION:2.0
PRODID:icalendar-ruby
CALSCALE:GREGORIAN
BEGIN:VEVENT
DTSTAMP:20210119T033800Z
UID:ec82760a-3799-4201-a083-793526b1ae05
DTSTART;VALUE=DATE:20190823
DESCRIPTION:Property ID# 458485\, Time: 12:00PM
SUMMARY:Auction for 
END:VEVENT
END:VCALENDAR
